BEGIN:VCALENDAR
VERSION:2.0
PRODID:SchoolNow
CALSCALE:GREGORIAN
BEGIN:VEVENT
UID:7154243c-f669-11f0-a823-02cf4ff822d3
DTSTAMP:20260421T073012Z
SUMMARY:8th - THS Athletics Info Parent Night
LOCATION:Torrance High School\, 2200 W Carson St\, Torrance\, CA 90501\, US
 A
URL;VALUE=URI:https://www.tusd.org/schools/madrona/calendar/8838524/8th-ths
 -athletics-info-parent-night
DTSTART:20260423T013000Z
DTEND:20260423T022000Z
END:VEVENT
END:VCALENDAR
