BEGIN:VCALENDAR
VERSION:2.0
PRODID:SchoolNow
CALSCALE:GREGORIAN
BEGIN:VEVENT
UID:71542266-f669-11f0-ae3b-02cf4ff822d3
DTSTAMP:20260421T133515Z
SUMMARY:8th-grade Dance (Hosted by Madrona PTSA)
LOCATION:At Madrona / GYM
URL;VALUE=URI:https://www.tusd.org/schools/madrona/calendar/8838523/8th-gra
 de-dance-hosted-by-madrona-ptsa
DTSTART:20260606T010000Z
DTEND:20260606T040000Z
END:VEVENT
END:VCALENDAR
