BEGIN:VCALENDAR
VERSION:2.0
PRODID:SchoolNow
CALSCALE:GREGORIAN
BEGIN:VEVENT
UID:715420b8-f669-11f0-bd69-02cf4ff822d3
DTSTAMP:20260421T073012Z
SUMMARY:8th-grade THS Parent Night / THS Auditorium
LOCATION:At THS Auditorium
URL;VALUE=URI:https://www.tusd.org/schools/madrona/calendar/8838522/8th-gra
 de-ths-parent-night-ths-auditorium
DTSTART:20260409T010000Z
DTEND:20260409T015000Z
END:VEVENT
END:VCALENDAR
