BEGIN:VCALENDAR
VERSION:2.0
PRODID:SchoolNow
CALSCALE:GREGORIAN
BEGIN:VEVENT
UID:71541e92-f669-11f0-a67a-02cf4ff822d3
DTSTAMP:20260421T133515Z
SUMMARY:8th-grade Promotion Practice & Picnic
URL;VALUE=URI:https://www.tusd.org/schools/madrona/calendar/8838521/8th-gra
 de-promotion-practice-picnic
DTSTART:20260611T154000Z
DTEND:20260611T194000Z
END:VEVENT
END:VCALENDAR
