BEGIN:VCALENDAR
VERSION:2.0
PRODID:SchoolNow
CALSCALE:GREGORIAN
BEGIN:VEVENT
UID:71541c8a-f669-11f0-9a4c-02cf4ff822d3
DTSTAMP:20260421T133515Z
SUMMARY:8th: Promotion Practice Periods
URL;VALUE=URI:https://www.tusd.org/schools/madrona/calendar/8838520/8th-pro
 motion-practice-periods
DTSTART:20260610T174100Z
DTEND:20260610T221600Z
END:VEVENT
END:VCALENDAR
