BEGIN:VCALENDAR
VERSION:2.0
PRODID:SchoolNow
CALSCALE:GREGORIAN
BEGIN:VEVENT
UID:7153fc28-f669-11f0-abad-02cf4ff822d3
DTSTAMP:20260421T073012Z
SUMMARY:8th - THS ELD Presentation / ELD Classes
LOCATION:At Madrona in ELD Classes
URL;VALUE=URI:https://www.tusd.org/schools/madrona/calendar/8838519/8th-ths
 -eld-presentation-eld-classes
DTSTART:20260408T192400Z
DTEND:20260408T194900Z
END:VEVENT
END:VCALENDAR
