BEGIN:VCALENDAR
VERSION:2.0
PRODID:SchoolNow
CALSCALE:GREGORIAN
BEGIN:VEVENT
UID:9b77bbee-f339-11f0-a1e1-0a58a9feac02
DTSTAMP:20260421T133515Z
SUMMARY:Lincoln Day - No School
URL;VALUE=URI:https://www.tusd.org/schools/madrona/calendar/8837353/lincoln
 -day-no-school
DTSTART;VALUE=DATE:20260209
DTEND;VALUE=DATE:20260210
END:VEVENT
END:VCALENDAR
