BEGIN:VCALENDAR
VERSION:2.0
PRODID:SchoolNow
CALSCALE:GREGORIAN
BEGIN:VEVENT
UID:9b77bacc-f339-11f0-a26e-0a58a9feac02
DTSTAMP:20260421T073012Z
SUMMARY:Daylight Saving Time starts
URL;VALUE=URI:https://www.tusd.org/schools/madrona/calendar/8837352/dayligh
 t-saving-time-starts
DTSTART;VALUE=DATE:20260308
DTEND;VALUE=DATE:20260309
END:VEVENT
END:VCALENDAR
