BEGIN:VCALENDAR
VERSION:2.0
PRODID:SchoolNow
CALSCALE:GREGORIAN
BEGIN:VEVENT
UID:9b77b2ac-f339-11f0-86cf-0a58a9feac02
DTSTAMP:20260421T073012Z
SUMMARY:Teacher Appreciation Week
URL;VALUE=URI:https://www.tusd.org/schools/madrona/calendar/8837348/teacher
 -appreciation-week
DTSTART;VALUE=DATE:20260504
DTEND;VALUE=DATE:20260509
END:VEVENT
END:VCALENDAR
