BEGIN:VCALENDAR
VERSION:2.0
PRODID:SchoolNow
CALSCALE:GREGORIAN
BEGIN:VEVENT
UID:9b778c28-f339-11f0-b7a1-0a58a9feac02
DTSTAMP:20260421T133515Z
SUMMARY:President's Day - No School
URL;VALUE=URI:https://www.tusd.org/schools/madrona/calendar/8837346/preside
 nts-day-no-school
DTSTART;VALUE=DATE:20260216
DTEND;VALUE=DATE:20260217
END:VEVENT
END:VCALENDAR
