BEGIN:VCALENDAR
VERSION:2.0
PRODID:SchoolNow
CALSCALE:GREGORIAN
BEGIN:VEVENT
UID:b1615d64-f1a1-11f0-931b-0a58a9feac02
DTSTAMP:20260421T073012Z
SUMMARY:Basketball - Magruder vs Madrona
LOCATION:Magruder Middle School\, 4100 185th St\, Torrance\, CA 90504\, USA
URL;VALUE=URI:https://www.tusd.org/schools/madrona/calendar/8836500/basketb
 all-magruder-vs-madrona
DTSTART;VALUE=DATE:20260305
DTEND;VALUE=DATE:20260306
END:VEVENT
END:VCALENDAR
