BEGIN:VCALENDAR
VERSION:2.0
PRODID:SchoolNow
CALSCALE:GREGORIAN
BEGIN:VEVENT
UID:b759c38a-f108-11f0-8400-0affd0ebf8e9
DTSTAMP:20260424T083014Z
SUMMARY:Late Start -9:25
URL;VALUE=URI:https://www.tusd.org/schools/madrona/calendar/8836004/late-st
 art-9-25
DTSTART;VALUE=DATE:20270914
DTEND;VALUE=DATE:20270915
END:VEVENT
END:VCALENDAR
