BEGIN:VCALENDAR
VERSION:2.0
PRODID:SchoolNow
CALSCALE:GREGORIAN
BEGIN:VEVENT
UID:c93017aa-efa3-11f0-b596-0a58a9feac02
DTSTAMP:20260421T133515Z
SUMMARY:(Tentative) Returning Student Registration & Self-Guided Tour
URL;VALUE=URI:https://www.tusd.org/schools/madrona/calendar/8834871/tentati
 ve-returning-student-registration-self-guided-tour
DTSTART:20260817T200000Z
DTEND:20260817T220000Z
END:VEVENT
END:VCALENDAR
