BEGIN:VCALENDAR
VERSION:2.0
PRODID:SchoolNow
CALSCALE:GREGORIAN
BEGIN:VEVENT
UID:c9301318-efa3-11f0-849a-0a58a9feac02
DTSTAMP:20260421T133515Z
SUMMARY:(Tentative) Incoming 6th-grade &New Student Orientation
URL;VALUE=URI:https://www.tusd.org/schools/madrona/calendar/8834870/tentati
 ve-incoming-6th-grade-new-student-orientation
DTSTART:20260817T160000Z
DTEND:20260817T181000Z
END:VEVENT
END:VCALENDAR
