BEGIN:VCALENDAR
VERSION:2.0
PRODID:SchoolNow
CALSCALE:GREGORIAN
BEGIN:VEVENT
UID:c92ff0b8-efa3-11f0-b109-0a58a9feac02
DTSTAMP:20260421T073012Z
SUMMARY:Fern & Hickory 5th-grade Visit to Madrona/Cafe
URL;VALUE=URI:https://www.tusd.org/schools/madrona/calendar/8834869/fern-hi
 ckory-5th-grade-visit-to-madrona-cafe
DTSTART:20260515T163000Z
DTEND:20260515T180000Z
END:VEVENT
END:VCALENDAR
