BEGIN:VCALENDAR
VERSION:2.0
PRODID:SchoolNow
CALSCALE:GREGORIAN
BEGIN:VEVENT
UID:ffc3baa2-eb74-11f0-9c38-021211ecf9ad
DTSTAMP:20260424T083014Z
SUMMARY:Late Start -9:25
URL;VALUE=URI:https://www.tusd.org/schools/madrona/calendar/8832174/late-st
 art-9-25
DTSTART;VALUE=DATE:20270907
DTEND;VALUE=DATE:20270908
END:VEVENT
END:VCALENDAR
