BEGIN:VCALENDAR
VERSION:2.0
PRODID:SchoolNow
CALSCALE:GREGORIAN
BEGIN:VEVENT
UID:47bfb1ec-e5e1-11f0-bff0-0a58a9feac02
DTSTAMP:20260424T083014Z
SUMMARY:Late Start -9:25
URL;VALUE=URI:https://www.tusd.org/schools/madrona/calendar/8827813/late-st
 art-9-25
DTSTART;VALUE=DATE:20270831
DTEND;VALUE=DATE:20270901
END:VEVENT
END:VCALENDAR
