BEGIN:VCALENDAR
VERSION:2.0
PRODID:SchoolNow
CALSCALE:GREGORIAN
BEGIN:VEVENT
UID:d2d9a790-db52-11f0-9bcf-0a58a9feac02
DTSTAMP:20260421T073012Z
SUMMARY:Spring Dance- Leadership Hosts
URL;VALUE=URI:https://www.tusd.org/schools/madrona/calendar/8825455/spring-
 dance-leadership-hosts
DTSTART:20260307T020000Z
DTEND:20260307T040000Z
END:VEVENT
END:VCALENDAR
