BEGIN:VCALENDAR
VERSION:2.0
PRODID:SchoolNow
CALSCALE:GREGORIAN
BEGIN:VEVENT
UID:2675beec-d58c-11f0-9c57-02e6135ffa1d
DTSTAMP:20260424T083014Z
SUMMARY:Late Start -9:25
URL;VALUE=URI:https://www.tusd.org/schools/madrona/calendar/8821036/late-st
 art-9-25
DTSTART;VALUE=DATE:20270810
DTEND;VALUE=DATE:20270811
END:VEVENT
END:VCALENDAR
