BEGIN:VCALENDAR
VERSION:2.0
PRODID:SchoolNow
CALSCALE:GREGORIAN
BEGIN:VEVENT
UID:3c0d9e9e-d3f4-11f0-86b6-0235209fe92b
DTSTAMP:20260421T133515Z
SUMMARY:Basketball - Madrona vs Calle
LOCATION:Madrona Middle School\, 21364 Madrona Ave\, Torrance\, CA 90503\, 
 USA
URL;VALUE=URI:https://www.tusd.org/schools/madrona/calendar/8819498/basketb
 all-madrona-vs-calle
DTSTART;VALUE=DATE:20260219
DTEND;VALUE=DATE:20260220
END:VEVENT
END:VCALENDAR
