BEGIN:VCALENDAR
VERSION:2.0
PRODID:SchoolNow
CALSCALE:GREGORIAN
BEGIN:VEVENT
UID:3c0d9b38-d3f4-11f0-b9e5-0235209fe92b
DTSTAMP:20260421T073012Z
SUMMARY:Basketball - Jefferson vs Madrona
LOCATION:Jefferson Middle School\, 21717 Talisman St\, Torrance\, CA 90503\
 , USA
URL;VALUE=URI:https://www.tusd.org/schools/madrona/calendar/8819497/basketb
 all-jefferson-vs-madrona
DTSTART;VALUE=DATE:20260212
DTEND;VALUE=DATE:20260213
END:VEVENT
END:VCALENDAR
