BEGIN:VCALENDAR
VERSION:2.0
PRODID:SchoolNow
CALSCALE:GREGORIAN
BEGIN:VEVENT
UID:3c0d763a-d3f4-11f0-a761-0235209fe92b
DTSTAMP:20260421T133515Z
SUMMARY:Basketball - Madrona vs Lynn
LOCATION:Madrona Middle School\, 21364 Madrona Ave\, Torrance\, CA 90503\, 
 USA
URL;VALUE=URI:https://www.tusd.org/schools/madrona/calendar/8819495/basketb
 all-madrona-vs-lynn
DTSTART;VALUE=DATE:20260226
DTEND;VALUE=DATE:20260227
END:VEVENT
END:VCALENDAR
