BEGIN:VCALENDAR
VERSION:2.0
PRODID:SchoolNow
CALSCALE:GREGORIAN
BEGIN:VEVENT
UID:7372f514-cff8-11f0-8d79-0a58a9feac02
DTSTAMP:20260424T083014Z
SUMMARY:Late Start -9:25
URL;VALUE=URI:https://www.tusd.org/schools/madrona/calendar/8816416/late-st
 art-9-25
DTSTART;VALUE=DATE:20270803
DTEND;VALUE=DATE:20270804
END:VEVENT
END:VCALENDAR
