BEGIN:VCALENDAR
VERSION:2.0
PRODID:SchoolNow
CALSCALE:GREGORIAN
BEGIN:VEVENT
UID:8ba79fc4-ce93-11f0-bdab-0affc91289bf
DTSTAMP:20260421T073012Z
SUMMARY:2026-27 Incoming 6th Grade Meet & Greet- In Person
LOCATION:Madrona Middle School
URL;VALUE=URI:https://www.tusd.org/schools/madrona/calendar/8814345/2026-27
 -incoming-6th-grade-meet-greet-in-person
DTSTART:20260320T010000Z
DTEND:20260320T020000Z
END:VEVENT
END:VCALENDAR
