BEGIN:VCALENDAR
VERSION:2.0
PRODID:SchoolNow
CALSCALE:GREGORIAN
BEGIN:VEVENT
UID:f5137996-c5cf-11f0-ad77-0a58a9feac02
DTSTAMP:20260424T022514Z
SUMMARY:Late Start -9:25
URL;VALUE=URI:https://www.tusd.org/schools/madrona/calendar/8804845/late-st
 art-9-25
DTSTART;VALUE=DATE:20270720
DTEND;VALUE=DATE:20270721
END:VEVENT
END:VCALENDAR
