BEGIN:VCALENDAR
VERSION:2.0
PRODID:SchoolNow
CALSCALE:GREGORIAN
BEGIN:VEVENT
UID:3bc9c6cc-c03c-11f0-9614-0a58a9feac02
DTSTAMP:20260422T075014Z
SUMMARY:Late Start -9:25
URL;VALUE=URI:https://www.tusd.org/schools/madrona/calendar/8792806/late-st
 art-9-25
DTSTART;VALUE=DATE:20270713
DTEND;VALUE=DATE:20270714
END:VEVENT
END:VCALENDAR
