BEGIN:VCALENDAR
VERSION:2.0
PRODID:SchoolNow
CALSCALE:GREGORIAN
BEGIN:VEVENT
UID:89730bf8-ba75-11f0-b1cd-0a58a9feac02
DTSTAMP:20260421T073012Z
SUMMARY:Madrona vs Hull Flag Football @THS
URL;VALUE=URI:https://www.tusd.org/schools/madrona/calendar/8779174/madrona
 -vs-hull-flag-football-ths
DTSTART:20260501T010000Z
DTEND:20260501T030000Z
END:VEVENT
END:VCALENDAR
