BEGIN:VCALENDAR
VERSION:2.0
PRODID:SchoolNow
CALSCALE:GREGORIAN
BEGIN:VEVENT
UID:8ce89fca-ba0f-11f0-a37c-0a58a9feac02
DTSTAMP:20260421T133515Z
SUMMARY:8th-grade D&B Fieldtrip
URL;VALUE=URI:https://www.tusd.org/schools/madrona/calendar/8778258/8th-gra
 de-d-b-fieldtrip
DTSTART:20260602T180000Z
DTEND:20260602T210000Z
END:VEVENT
END:VCALENDAR
