BEGIN:VCALENDAR
VERSION:2.0
PRODID:SchoolNow
CALSCALE:GREGORIAN
BEGIN:VEVENT
UID:9e302dd0-b8dd-11f0-b82e-0a58a9feac02
DTSTAMP:20260422T014512Z
SUMMARY:Late Start -9:25
URL;VALUE=URI:https://www.tusd.org/schools/madrona/calendar/8771133/late-st
 art-9-25
DTSTART;VALUE=DATE:20270629
DTEND;VALUE=DATE:20270630
END:VEVENT
END:VCALENDAR
