BEGIN:VCALENDAR
VERSION:2.0
PRODID:SchoolNow
CALSCALE:GREGORIAN
BEGIN:VEVENT
UID:bf3b9002-ab9d-11f0-b07a-0a58a9feac02
DTSTAMP:20260421T073012Z
SUMMARY:No School - Non-Instructional Day
URL;VALUE=URI:https://www.tusd.org/schools/madrona/calendar/8730274/no-scho
 ol-non-instructional-day
DTSTART;VALUE=DATE:20260501
DTEND;VALUE=DATE:20260502
END:VEVENT
END:VCALENDAR
