BEGIN:VCALENDAR
VERSION:2.0
PRODID:SchoolNow
CALSCALE:GREGORIAN
BEGIN:VEVENT
UID:bf3b7022-ab9d-11f0-b98e-0a58a9feac02
DTSTAMP:20260421T073012Z
SUMMARY:PD Day - Student Free - No School
URL;VALUE=URI:https://www.tusd.org/schools/madrona/calendar/8730273/pd-day-
 student-free-no-school
DTSTART;VALUE=DATE:20260306
DTEND;VALUE=DATE:20260307
END:VEVENT
END:VCALENDAR
