BEGIN:VCALENDAR
VERSION:2.0
PRODID:SchoolNow
CALSCALE:GREGORIAN
BEGIN:VEVENT
UID:bcb6fdb4-aa38-11f0-9df1-0affdef902a7
DTSTAMP:20260421T073012Z
SUMMARY:End of Q3 Assembly
URL;VALUE=URI:https://www.tusd.org/schools/madrona/calendar/8725939/end-of-
 q3-assembly
DTSTART;VALUE=DATE:20260327
DTEND;VALUE=DATE:20260328
END:VEVENT
END:VCALENDAR
