BEGIN:VCALENDAR
VERSION:2.0
PRODID:SchoolNow
CALSCALE:GREGORIAN
BEGIN:VEVENT
UID:ff7e717c-a53d-11f0-ac24-0a58a9feac02
DTSTAMP:20260422T014512Z
SUMMARY:Late Start -9:25
URL;VALUE=URI:https://www.tusd.org/schools/madrona/calendar/8709020/late-st
 art-9-25
DTSTART;VALUE=DATE:20270608
DTEND;VALUE=DATE:20270609
END:VEVENT
END:VCALENDAR
