BEGIN:VCALENDAR
VERSION:2.0
PRODID:SchoolNow
CALSCALE:GREGORIAN
BEGIN:VEVENT
UID:4e154b18-9f11-11f0-9530-02be4620902f
DTSTAMP:20260421T073012Z
SUMMARY:TUSD Incoming 6th / Accelerated Math Test Day (details TBD)
URL;VALUE=URI:https://www.tusd.org/schools/madrona/calendar/8685469/tusd-in
 coming-6th-accelerated-math-test-day-details-tbd
DTSTART:20260415T223000Z
DTEND:20260416T000000Z
END:VEVENT
END:VCALENDAR
