BEGIN:VCALENDAR
VERSION:2.0
PRODID:SchoolNow
CALSCALE:GREGORIAN
BEGIN:VEVENT
UID:4e152b1a-9f11-11f0-ac28-02be4620902f
DTSTAMP:20260421T073012Z
SUMMARY:Madrona Accelerated Testing (current students)
URL;VALUE=URI:https://www.tusd.org/schools/madrona/calendar/8685466/madrona
 -accelerated-testing-current-students
DTSTART:20260422T223000Z
DTEND:20260422T233000Z
END:VEVENT
END:VCALENDAR
