BEGIN:VCALENDAR
VERSION:2.0
PRODID:SchoolNow
CALSCALE:GREGORIAN
BEGIN:VEVENT
UID:556037b2-9a4c-11f0-b3ea-0a58a9feac02
DTSTAMP:20260422T014512Z
SUMMARY:Late Start -9:25
URL;VALUE=URI:https://www.tusd.org/schools/madrona/calendar/8663981/late-st
 art-9-25
DTSTART;VALUE=DATE:20270525
DTEND;VALUE=DATE:20270526
END:VEVENT
END:VCALENDAR
