BEGIN:VCALENDAR
VERSION:2.0
PRODID:SchoolNow
CALSCALE:GREGORIAN
BEGIN:VEVENT
UID:67532f8a-98e7-11f0-9415-0a58a9feac02
DTSTAMP:20260421T133515Z
SUMMARY:Homework Club
URL;VALUE=URI:https://www.tusd.org/schools/madrona/calendar/8658139/homewor
 k-club
DTSTART:20260603T223000Z
DTEND:20260603T233000Z
END:VEVENT
END:VCALENDAR
