BEGIN:VCALENDAR
VERSION:2.0
PRODID:SchoolNow
CALSCALE:GREGORIAN
BEGIN:VEVENT
UID:67532eae-98e7-11f0-9cec-0a58a9feac02
DTSTAMP:20260421T073012Z
SUMMARY:Homework Club
URL;VALUE=URI:https://www.tusd.org/schools/madrona/calendar/8658138/homewor
 k-club
DTSTART:20260527T223000Z
DTEND:20260527T233000Z
END:VEVENT
END:VCALENDAR
