BEGIN:VCALENDAR
VERSION:2.0
PRODID:SchoolNow
CALSCALE:GREGORIAN
BEGIN:VEVENT
UID:67532c1a-98e7-11f0-80bd-0a58a9feac02
DTSTAMP:20260421T073012Z
SUMMARY:Homework Club
URL;VALUE=URI:https://www.tusd.org/schools/madrona/calendar/8658135/homewor
 k-club
DTSTART:20260506T223000Z
DTEND:20260506T233000Z
END:VEVENT
END:VCALENDAR
