BEGIN:VCALENDAR
VERSION:2.0
PRODID:SchoolNow
CALSCALE:GREGORIAN
BEGIN:VEVENT
UID:675322ba-98e7-11f0-b614-0a58a9feac02
DTSTAMP:20260421T133515Z
SUMMARY:Homework Club
URL;VALUE=URI:https://www.tusd.org/schools/madrona/calendar/8658124/homewor
 k-club
DTSTART:20260211T233000Z
DTEND:20260212T003000Z
END:VEVENT
END:VCALENDAR
