BEGIN:VCALENDAR
VERSION:2.0
PRODID:SchoolNow
CALSCALE:GREGORIAN
BEGIN:VEVENT
UID:67531356-98e7-11f0-89c8-0a58a9feac02
DTSTAMP:20260421T133515Z
SUMMARY:Homework Club
URL;VALUE=URI:https://www.tusd.org/schools/madrona/calendar/8658107/homewor
 k-club
DTSTART:20260602T223000Z
DTEND:20260602T233000Z
END:VEVENT
END:VCALENDAR
