BEGIN:VCALENDAR
VERSION:2.0
PRODID:SchoolNow
CALSCALE:GREGORIAN
BEGIN:VEVENT
UID:67530ed8-98e7-11f0-b0f6-0a58a9feac02
DTSTAMP:20260421T073012Z
SUMMARY:Homework Club
URL;VALUE=URI:https://www.tusd.org/schools/madrona/calendar/8658102/homewor
 k-club
DTSTART:20260428T223000Z
DTEND:20260428T233000Z
END:VEVENT
END:VCALENDAR
