BEGIN:VCALENDAR
VERSION:2.0
PRODID:SchoolNow
CALSCALE:GREGORIAN
BEGIN:VEVENT
UID:67530d16-98e7-11f0-af6b-0a58a9feac02
DTSTAMP:20260421T073012Z
SUMMARY:Homework Club
URL;VALUE=URI:https://www.tusd.org/schools/madrona/calendar/8658100/homewor
 k-club
DTSTART:20260414T223000Z
DTEND:20260414T233000Z
END:VEVENT
END:VCALENDAR
