BEGIN:VCALENDAR
VERSION:2.0
PRODID:SchoolNow
CALSCALE:GREGORIAN
BEGIN:VEVENT
UID:675308ac-98e7-11f0-8c76-0a58a9feac02
DTSTAMP:20260421T073012Z
SUMMARY:Homework Club
URL;VALUE=URI:https://www.tusd.org/schools/madrona/calendar/8658095/homewor
 k-club
DTSTART:20260303T233000Z
DTEND:20260304T003000Z
END:VEVENT
END:VCALENDAR
