BEGIN:VCALENDAR
VERSION:2.0
PRODID:SchoolNow
CALSCALE:GREGORIAN
BEGIN:VEVENT
UID:675307c6-98e7-11f0-ac37-0a58a9feac02
DTSTAMP:20260421T133515Z
SUMMARY:Homework Club
URL;VALUE=URI:https://www.tusd.org/schools/madrona/calendar/8658094/homewor
 k-club
DTSTART:20260224T233000Z
DTEND:20260225T003000Z
END:VEVENT
END:VCALENDAR
