BEGIN:VCALENDAR
VERSION:2.0
PRODID:SchoolNow
CALSCALE:GREGORIAN
BEGIN:VEVENT
UID:675306cc-98e7-11f0-ab2e-0a58a9feac02
DTSTAMP:20260421T133515Z
SUMMARY:Homework Club
URL;VALUE=URI:https://www.tusd.org/schools/madrona/calendar/8658093/homewor
 k-club
DTSTART:20260217T233000Z
DTEND:20260218T003000Z
END:VEVENT
END:VCALENDAR
