BEGIN:VCALENDAR
VERSION:2.0
PRODID:SchoolNow
CALSCALE:GREGORIAN
BEGIN:VEVENT
UID:675305f0-98e7-11f0-aac3-0a58a9feac02
DTSTAMP:20260421T133515Z
SUMMARY:Homework Club
URL;VALUE=URI:https://www.tusd.org/schools/madrona/calendar/8658092/homewor
 k-club
DTSTART:20260210T233000Z
DTEND:20260211T003000Z
END:VEVENT
END:VCALENDAR
