BEGIN:VCALENDAR
VERSION:2.0
PRODID:SchoolNow
CALSCALE:GREGORIAN
BEGIN:VEVENT
UID:6753050a-98e7-11f0-b0d7-0a58a9feac02
DTSTAMP:20260421T133515Z
SUMMARY:Homework Club
URL;VALUE=URI:https://www.tusd.org/schools/madrona/calendar/8658091/homewor
 k-club
DTSTART:20260203T233000Z
DTEND:20260204T003000Z
END:VEVENT
END:VCALENDAR
