BEGIN:VCALENDAR
VERSION:2.0
PRODID:SchoolNow
CALSCALE:GREGORIAN
BEGIN:VEVENT
UID:672f7432-98e7-11f0-9361-0a58a9feac02
DTSTAMP:20260421T073012Z
SUMMARY:Homework Club
URL;VALUE=URI:https://www.tusd.org/schools/madrona/calendar/8658074/homewor
 k-club
DTSTART:20260525T223000Z
DTEND:20260525T233000Z
END:VEVENT
END:VCALENDAR
