BEGIN:VCALENDAR
VERSION:2.0
PRODID:SchoolNow
CALSCALE:GREGORIAN
BEGIN:VEVENT
UID:672f6eec-98e7-11f0-a006-0a58a9feac02
DTSTAMP:20260421T073012Z
SUMMARY:Homework Club
URL;VALUE=URI:https://www.tusd.org/schools/madrona/calendar/8658068/homewor
 k-club
DTSTART:20260413T223000Z
DTEND:20260413T233000Z
END:VEVENT
END:VCALENDAR
